BEGIN:VCALENDAR
VERSION:2.0
PRODID:-//RESEARCH AND INNOVATION - ECPv6.15.20//NONSGML v1.0//EN
CALSCALE:GREGORIAN
METHOD:PUBLISH
X-WR-CALNAME:RESEARCH AND INNOVATION
X-ORIGINAL-URL:https://blogs.napier.ac.uk/scebe-research
X-WR-CALDESC:Events for RESEARCH AND INNOVATION
REFRESH-INTERVAL;VALUE=DURATION:PT1H
X-Robots-Tag:noindex
X-PUBLISHED-TTL:PT1H
BEGIN:VTIMEZONE
TZID:UTC
BEGIN:STANDARD
TZOFFSETFROM:+0000
TZOFFSETTO:+0000
TZNAME:UTC
DTSTART:20180101T000000
END:STANDARD
END:VTIMEZONE
BEGIN:VEVENT
DTSTART;TZID=UTC:20191018T140000
DTEND;TZID=UTC:20191018T170000
DTSTAMP:20260425T011433
CREATED:20190812T132013Z
LAST-MODIFIED:20190812T132013Z
UID:877-1571407200-1571418000@blogs.napier.ac.uk
SUMMARY:Sense about Science workshop: ‘Peer review: the nuts & bolts’
DESCRIPTION:Sense about Science is running a workshop titled ‘Peer review: the nuts & bolts’ as part of their Voice of Young Science (VoYS) programme\, at Glasgow Caledonian University on Friday\, 18th October.  \n This event is a free half-day workshop for early career researchers (ECRs) in which Sense about Science explore how peer review works and the challenges to the system\, discuss ways in which ECRs can get involved\, and look at the role of peer review in helping the public to evaluate research claims. \n Please see information from Sense about Science below: \n\n  \nFind out about peer review. \nDebate challenges to the system. \nDiscuss the role of peer review for scientists and the public. \n Friday\, 18th October: 2pm to 5pm \nGlasgow Caledonian University \nPeer review: the nuts and bolts is a free half-day workshop for early career researchers and will explore how peer review works\, how to get involved\, the challenges to the system\, and the role of peer review in helping the public to evaluate research claims.  \n Should peer review detect plagiarism\, bias and fraud? What does peer review do for science and what does the scientific community want it to do for them? Should reviewers remain anonymous? Does it illuminate good ideas or shut them down? \n To apply to attend this workshop\, please fill out the application form here by 5pm on Monday\, 9th September. \n For more details\, get in touch with Dr Hamid Khan\, public engagement coordinator: hamid@senseaboutscience.org \n More information here \n Note: This course is run by Sense about Science not Edinburgh Napier University\, and all questions should be addressed to Hamid. \n 
URL:https://blogs.napier.ac.uk/scebe-research/event/sense-about-science-workshop-peer-review-the-nuts-bolts/
LOCATION:Glasgow Caledonian University\, Cowcaddens Road\, Glasgow\, G4 0BA
CATEGORIES:Peer Review
ATTACH;FMTTYPE=image/png:https://blogs.napier.ac.uk/scebe-research/wp-content/uploads/sites/132/2019/08/Sense.png
END:VEVENT
END:VCALENDAR